BEGIN:VCALENDAR
VERSION:2.0
PRODID:Metro Wastewater JPA Calendar Creator
METHOD:PUBLISH
BEGIN:VEVENT
DTSTAMP:20150225T111202
DTSTART:20150225T083000
DTEND:20150225T235900
SUMMARY:Finance Committee Meeting CANCELLED
DESCRIPTION:<br>
X-ALT-DESC;FMTTYPE=text/html:<br>
LOCATION:Atkins Global\, 3570 Carmel Mountain Rd.\, Ste. 300 San Diego\, California 92130
CLASS:PUBLIC
END:VEVENT
END:VCALENDAR
