BEGIN:VCALENDAR
VERSION:2.0
PRODID:Metro Wastewater JPA Calendar Creator
METHOD:PUBLISH
BEGIN:VEVENT
DTSTAMP:20230713T134533
DTSTART:20230719T110000
DTEND:20230719T133000
SUMMARY:MetroTAC Regular Meeting
DESCRIPTION:
X-ALT-DESC;FMTTYPE=text/html:
LOCATION:Zoom Electronic Meeting\, 
CLASS:PUBLIC
END:VEVENT
END:VCALENDAR
