BEGIN:VCALENDAR
VERSION:2.0
PRODID:Metro Wastewater JPA Calendar Creator
METHOD:PUBLISH
BEGIN:VEVENT
DTSTAMP:20230522T173104
DTSTART:20230524T100000
DTEND:20230524T120000
SUMMARY:Metro JPA Finance Committee Meeting
DESCRIPTION:
X-ALT-DESC;FMTTYPE=text/html:
LOCATION:PUD MOC II Auditorium Room 2B\, 9192 Topaz Way San Diego\, California 92123
CLASS:PUBLIC
END:VEVENT
END:VCALENDAR
