BEGIN:VCALENDAR
VERSION:2.0
PRODID:Metro Wastewater JPA Calendar Creator
METHOD:PUBLISH
BEGIN:VEVENT
DTSTAMP:20220722T114932
DTSTART:20220727T083000
DTEND:20220727T093000
SUMMARY:Metro JPA Finance Committee Meeting
DESCRIPTION:
X-ALT-DESC;FMTTYPE=text/html:
LOCATION:Zoom Electronic Meeting\, 
CLASS:PUBLIC
END:VEVENT
END:VCALENDAR
