BEGIN:VCALENDAR
VERSION:2.0
PRODID:Metro Wastewater JPA Calendar Creator
METHOD:PUBLISH
BEGIN:VEVENT
DTSTAMP:20211024T153922
DTSTART:20211027T100000
DTEND:20211027T130000
SUMMARY:Metro JPA Finance Committee
DESCRIPTION:
X-ALT-DESC;FMTTYPE=text/html:
LOCATION:Zoom Electronic Meeting\, 
CLASS:PUBLIC
END:VEVENT
END:VCALENDAR
