BEGIN:VCALENDAR
VERSION:2.0
PRODID:Metro Wastewater JPA Calendar Creator
METHOD:PUBLISH
BEGIN:VEVENT
DTSTAMP:20210131T125303
DTSTART:20210204T120000
DTEND:20210204T133000
SUMMARY:Metro Wastewater JPA/Metro Comm CANCELLED
DESCRIPTION:
X-ALT-DESC;FMTTYPE=text/html:
LOCATION:Zoom Electronic Meeting\, 
CLASS:PUBLIC
END:VEVENT
END:VCALENDAR
