BEGIN:VCALENDAR
VERSION:2.0
PRODID:Metro Wastewater JPA Calendar Creator
METHOD:PUBLISH
BEGIN:VEVENT
DTSTAMP:20201208T162107
DTSTART:20201216T110000
DTEND:20201216T133000
SUMMARY:MetroTAC Regular Meeting CANCELLED
DESCRIPTION:
X-ALT-DESC;FMTTYPE=text/html:
LOCATION:PUD Auditorium or Zoom Electronic Meeting\, 9192 Topaz Way San Diego\, California 92123
CLASS:PUBLIC
END:VEVENT
END:VCALENDAR
