BEGIN:VCALENDAR
VERSION:2.0
PRODID:Metro Wastewater JPA Calendar Creator
METHOD:PUBLISH
BEGIN:VEVENT
DTSTAMP:20201106T083449
DTSTART:20201110T120000
DTEND:20201110T150000
SUMMARY:Metro Comm/Metro Wastewater JPA SPECIAL Meeting
DESCRIPTION:
X-ALT-DESC;FMTTYPE=text/html:
LOCATION:Zoom Teleconference Meeting Webinar\, 
CLASS:PUBLIC
END:VEVENT
END:VCALENDAR
