BEGIN:VCALENDAR
VERSION:2.0
PRODID:Metro Wastewater JPA Calendar Creator
METHOD:PUBLISH
BEGIN:VEVENT
DTSTAMP:20200818T192748
DTSTART:20200819T110000
DTEND:20200819T133000
SUMMARY:MetroTAC Regular Meeting
DESCRIPTION:
X-ALT-DESC;FMTTYPE=text/html:
LOCATION:ZOOM Electronic Meeting\, 
CLASS:PUBLIC
END:VEVENT
END:VCALENDAR
