BEGIN:VCALENDAR
VERSION:2.0
PRODID:Metro Wastewater JPA Calendar Creator
METHOD:PUBLISH
BEGIN:VEVENT
DTSTAMP:20200731T133056
DTSTART:20200806T120000
DTEND:20200806T140000
SUMMARY:Metro Comm/Metro Wastewater JPA
DESCRIPTION:
X-ALT-DESC;FMTTYPE=text/html:
LOCATION:ZOOM Electronic Event\, 
CLASS:PUBLIC
END:VEVENT
END:VCALENDAR
