BEGIN:VCALENDAR
VERSION:2.0
PRODID:Metro Wastewater JPA Calendar Creator
METHOD:PUBLISH
BEGIN:VEVENT
DTSTAMP:20200715T075436
DTSTART:20200715T110000
DTEND:20200715T133000
SUMMARY:MetroTAC
DESCRIPTION:
X-ALT-DESC;FMTTYPE=text/html:
LOCATION:Zoom Electronic Meeting\, 
CLASS:PUBLIC
END:VEVENT
END:VCALENDAR
