BEGIN:VCALENDAR
VERSION:2.0
PRODID:Metro Wastewater JPA Calendar Creator
METHOD:PUBLISH
BEGIN:VEVENT
DTSTAMP:20200612T121619
DTSTART:20200617T110000
DTEND:20200617T133000
SUMMARY:MetroTAC
DESCRIPTION:
X-ALT-DESC;FMTTYPE=text/html:
LOCATION:Electronically via Zoom\, 
CLASS:PUBLIC
END:VEVENT
END:VCALENDAR
