BEGIN:VCALENDAR
VERSION:2.0
PRODID:Metro Wastewater JPA Calendar Creator
METHOD:PUBLISH
BEGIN:VEVENT
DTSTAMP:20200529T101319
DTSTART:20200604T120000
DTEND:20200604T150000
SUMMARY:Metro Comm/Metro Wastewater JPA
DESCRIPTION:
X-ALT-DESC;FMTTYPE=text/html:
LOCATION:Zoom Teleconference Meeting Webinar\, 
CLASS:PUBLIC
END:VEVENT
END:VCALENDAR
