BEGIN:VCALENDAR
VERSION:2.0
PRODID:Metro Wastewater JPA Calendar Creator
METHOD:PUBLISH
BEGIN:VEVENT
DTSTAMP:20200526T114237
DTSTART:20200527T100000
DTEND:20200527T130000
SUMMARY:Metro JPA Finance Committee Meeting
DESCRIPTION:
X-ALT-DESC;FMTTYPE=text/html:
LOCATION:Zoom Elexctronic Meeting\, 
CLASS:PUBLIC
END:VEVENT
END:VCALENDAR
