BEGIN:VCALENDAR
VERSION:2.0
PRODID:Metro Wastewater JPA Calendar Creator
METHOD:PUBLISH
BEGIN:VEVENT
DTSTAMP:20200519T114736
DTSTART:20200520T110000
DTEND:20200520T143000
SUMMARY:MetroTAC
DESCRIPTION:
X-ALT-DESC;FMTTYPE=text/html:
LOCATION:
CLASS:PUBLIC
END:VEVENT
END:VCALENDAR
