BEGIN:VCALENDAR
VERSION:2.0
PRODID:Metro Wastewater JPA Calendar Creator
METHOD:PUBLISH
BEGIN:VEVENT
DTSTAMP:20200324T161210
DTSTART:20200318T110000
DTEND:20200330T133000
SUMMARY:MetroTAC CANCELLED
DESCRIPTION:
X-ALT-DESC;FMTTYPE=text/html:
LOCATION:PUD MOC 11 Auditorium\, 9192 Topaz Way San Diego\, California 92103
CLASS:PUBLIC
END:VEVENT
END:VCALENDAR
