BEGIN:VCALENDAR
VERSION:2.0
PRODID:Metro Wastewater JPA Calendar Creator
METHOD:PUBLISH
BEGIN:VEVENT
DTSTAMP:20200304T082444
DTSTART:20200305T120000
DTEND:20200305T140000
SUMMARY:Metro Commission/Metro Wastewater JPA
DESCRIPTION:<p>&nbsp;</p>
X-ALT-DESC;FMTTYPE=text/html:<p>&nbsp;</p>
LOCATION:PUD MOC II Auditorium\, 9192 Topaz Way San Diego\, California 92123
CLASS:PUBLIC
END:VEVENT
END:VCALENDAR
