BEGIN:VCALENDAR
VERSION:2.0
PRODID:Metro Wastewater JPA Calendar Creator
METHOD:PUBLISH
BEGIN:VEVENT
DTSTAMP:20200304T082058
DTSTART:20200219T110000
DTEND:20200219T133000
SUMMARY:MetroTAC
DESCRIPTION:
X-ALT-DESC;FMTTYPE=text/html:
LOCATION:PUD MOC II Conference Room 2E\, 9192 Topaz Way San Diego\, California 92132
CLASS:PUBLIC
END:VEVENT
END:VCALENDAR
