BEGIN:VCALENDAR
VERSION:2.0
PRODID:Metro Wastewater JPA Calendar Creator
METHOD:PUBLISH
BEGIN:VEVENT
DTSTAMP:20200109T092721
DTSTART:20200115T110000
DTEND:20200115T133000
SUMMARY:MetroTAC CANCELLATION
DESCRIPTION:
X-ALT-DESC;FMTTYPE=text/html:
LOCATION:PUD MOC II Auditorium\, 9192 Topaz Way San Diego\, California 92123
CLASS:PUBLIC
END:VEVENT
END:VCALENDAR
