BEGIN:VCALENDAR
VERSION:2.0
PRODID:Metro Wastewater JPA Calendar Creator
METHOD:PUBLISH
BEGIN:VEVENT
DTSTAMP:20150529T160059
DTSTART:20150604T100000
DTEND:20150604T235900
SUMMARY:Metro Commission Special Meeting
DESCRIPTION:<BR>
X-ALT-DESC;FMTTYPE=text/html:<BR>
LOCATION:Pt. Loma Wastewater Treatment Plant\, 1902 Gatchell Road San Diego\, California 92106
CLASS:PUBLIC
END:VEVENT
END:VCALENDAR
