BEGIN:VCALENDAR
VERSION:2.0
PRODID:Metro Wastewater JPA Calendar Creator
METHOD:PUBLISH
BEGIN:VEVENT
DTSTAMP:20191126T163805
DTSTART:20191205T120000
DTEND:20191205T235900
SUMMARY:Metro Comm/Metro Wastewater JPA CANCELLATION
DESCRIPTION:
X-ALT-DESC;FMTTYPE=text/html:
LOCATION:PUD MOC II Auditorium\, 9192 Topaz Way San Diego\, California 91932
CLASS:PUBLIC
END:VEVENT
END:VCALENDAR
