BEGIN:VCALENDAR
VERSION:2.0
PRODID:Metro Wastewater JPA Calendar Creator
METHOD:PUBLISH
BEGIN:VEVENT
DTSTAMP:20191114T082611
DTSTART:20191120T110000
DTEND:20191120T133000
SUMMARY:MetroTAC Meeting Cancelled
DESCRIPTION:
X-ALT-DESC;FMTTYPE=text/html:
LOCATION:PUD MOC II Auditorium\, 9192 Topaz Way San Diego\, California 
CLASS:PUBLIC
END:VEVENT
END:VCALENDAR
