BEGIN:VCALENDAR
VERSION:2.0
PRODID:Metro Wastewater JPA Calendar Creator
METHOD:PUBLISH
BEGIN:VEVENT
DTSTAMP:20190715T085953
DTSTART:20190724T100000
DTEND:20190724T130000
SUMMARY:Metro JPA Finance Committee CANCELLED
DESCRIPTION:
X-ALT-DESC;FMTTYPE=text/html:
LOCATION:PUD MOC II\, 9192 Topaz Way San Diego\, California 92123
CLASS:PUBLIC
END:VEVENT
END:VCALENDAR
