BEGIN:VCALENDAR
VERSION:2.0
PRODID:Metro Wastewater JPA Calendar Creator
METHOD:PUBLISH
BEGIN:VEVENT
DTSTAMP:20180427T091123
DTSTART:20180503T120000
DTEND:20180503T235900
SUMMARY:Metro Wastewater JPA Special Meeting
DESCRIPTION:
X-ALT-DESC;FMTTYPE=text/html:
LOCATION:La Mesa Police Station Community Room\, 8085 University Avenue La Mesa\, California 91942
CLASS:PUBLIC
END:VEVENT
END:VCALENDAR
