BEGIN:VCALENDAR
VERSION:2.0
PRODID:Metro Wastewater JPA Calendar Creator
METHOD:PUBLISH
BEGIN:VEVENT
DTSTAMP:20170523T062330
DTSTART:20170524T100000
DTEND:20170524T235900
SUMMARY:JPA Finance Committee Meeting
DESCRIPTION:<br>
X-ALT-DESC;FMTTYPE=text/html:<br>
LOCATION:MWWD MOC II\, 9192 Topaz Way San Diego\, California 92023
CLASS:PUBLIC
END:VEVENT
END:VCALENDAR
