BEGIN:VCALENDAR
VERSION:2.0
PRODID:Metro Wastewater JPA Calendar Creator
METHOD:PUBLISH
BEGIN:VEVENT
DTSTAMP:20180316T140942
DTSTART:20180321T110000
DTEND:20180321T235900
SUMMARY:Metro TAC Meeting
DESCRIPTION:<br>
X-ALT-DESC;FMTTYPE=text/html:<br>
LOCATION:PUD MOC II Auditorium\, 9192 Topaz Way San Diego\, California 92023
CLASS:PUBLIC
END:VEVENT
END:VCALENDAR
