BEGIN:VCALENDAR
VERSION:2.0
PRODID:Metro Wastewater JPA Calendar Creator
METHOD:PUBLISH
BEGIN:VEVENT
DTSTAMP:20180111T164715
DTSTART:20180117T110000
DTEND:20180117T235900
SUMMARY:Metro TAC Meeting CANCELLED
DESCRIPTION:<br>
X-ALT-DESC;FMTTYPE=text/html:<br>
LOCATION:MWWD MOC II Auditorium\, 9192 Topaz Way San Diego\, California 92023
CLASS:PUBLIC
END:VEVENT
END:VCALENDAR
