BEGIN:VCALENDAR
VERSION:2.0
PRODID:Metro Wastewater JPA Calendar Creator
METHOD:PUBLISH
BEGIN:VEVENT
DTSTAMP:20171130T192955
DTSTART:20171207T120000
DTEND:20171207T235900
SUMMARY:Metro JPA/Metro Commission CANCELLED
DESCRIPTION:<br>
X-ALT-DESC;FMTTYPE=text/html:<br>
LOCATION:MWWD PUD II Auditorium\, 9192 Topaz Way San Diego\, California 92023
CLASS:PUBLIC
END:VEVENT
END:VCALENDAR
