BEGIN:VCALENDAR
VERSION:2.0
PRODID:Metro Wastewater JPA Calendar Creator
METHOD:PUBLISH
BEGIN:VEVENT
DTSTAMP:20170116T124429
DTSTART:20161020T120000
DTEND:20161020T235900
SUMMARY:Metro JPA/Metro Comm Special Meeting
DESCRIPTION:<br>
X-ALT-DESC;FMTTYPE=text/html:<br>
LOCATION:MOC II Auditorium\, 9192 Topaz Way San Diego\, California 
CLASS:PUBLIC
END:VEVENT
END:VCALENDAR
