BEGIN:VCALENDAR
VERSION:2.0
PRODID:Metro Wastewater JPA Calendar Creator
METHOD:PUBLISH
BEGIN:VEVENT
DTSTAMP:20170321T091830
DTSTART:20170329T083000
DTEND:20170329T235900
SUMMARY:JPA Finance Committee Meeting CANCELLATION
DESCRIPTION:
X-ALT-DESC;FMTTYPE=text/html:
LOCATION:City of San Diego\, Public Utilities Department\, Metropolitan Operations Complex (MOC II)\, 9192 Topaz Way San Diego\, California 92123
CLASS:PUBLIC
END:VEVENT
END:VCALENDAR
