BEGIN:VCALENDAR
VERSION:2.0
PRODID:Metro Wastewater JPA Calendar Creator
METHOD:PUBLISH
BEGIN:VEVENT
DTSTAMP:20161209T094137
DTSTART:20161228T083000
DTEND:20161228T235900
SUMMARY:JPA Finance Committee Meeting - Cancelled
DESCRIPTION:
X-ALT-DESC;FMTTYPE=text/html:
LOCATION:City of San Diego\, Public Utilities Department\, Metropolitan Operations Complex (MOC II)\, 9192 Topaz Way San Diego\, California 92123
CLASS:PUBLIC
END:VEVENT
END:VCALENDAR
