BEGIN:VCALENDAR
VERSION:2.0
PRODID:Metro Wastewater JPA Calendar Creator
METHOD:PUBLISH
BEGIN:VEVENT
DTSTAMP:20161021T192624
DTSTART:20161026T083000
DTEND:20161026T235900
SUMMARY:JPA Finance Committee Meeting CANCELLED
DESCRIPTION:
X-ALT-DESC;FMTTYPE=text/html:
LOCATION:City of San Diego\, Public Utilities Department\, Metropolitan Operations Complex (MOC II)\, 9192 Topaz Way San Diego\, California 92123
CLASS:PUBLIC
END:VEVENT
END:VCALENDAR
