BEGIN:VCALENDAR
VERSION:2.0
PRODID:Metro Wastewater JPA Calendar Creator
METHOD:PUBLISH
BEGIN:VEVENT
DTSTAMP:20160828T070236
DTSTART:20160831T083000
DTEND:20160831T235900
SUMMARY:Metro JPA Finance Committee Meeting
DESCRIPTION:
X-ALT-DESC;FMTTYPE=text/html:
LOCATION:City of San Diego\, Public Utilities Department\, Metropolitan Operations Complex (MOC II) Conference Room 2C\, 9192 Topaz Way San Diego\, California 92123
CLASS:PUBLIC
END:VEVENT
END:VCALENDAR
