BEGIN:VCALENDAR
VERSION:2.0
PRODID:Metro Wastewater JPA Calendar Creator
METHOD:PUBLISH
BEGIN:VEVENT
DTSTAMP:20160322T125119
DTSTART:20160330T083000
DTEND:20160330T235900
SUMMARY:Cancellation of JPA Finance Committee Meeting
DESCRIPTION:
X-ALT-DESC;FMTTYPE=text/html:
LOCATION:City of San Diego\, Public Utilities Department\, Metropolitan Operations Complex (MOC II)\, 9192 Topaz Way San Diego\, California 92123
CLASS:PUBLIC
END:VEVENT
END:VCALENDAR
