BEGIN:VCALENDAR
VERSION:2.0
PRODID:Metro Wastewater JPA Calendar Creator
METHOD:PUBLISH
BEGIN:VEVENT
DTSTAMP:20150814T203502
DTSTART:20150819T110000
DTEND:20150819T133000
SUMMARY:Metro TAC Meeting
DESCRIPTION:<BR>
X-ALT-DESC;FMTTYPE=text/html:<BR>
LOCATION:MWWD MOC II Auditorium\, 9192 Topaz Way San Diego\, California 92023
CLASS:PUBLIC
END:VEVENT
END:VCALENDAR
