BEGIN:VCALENDAR
VERSION:2.0
PRODID:Metro Wastewater JPA Calendar Creator
METHOD:PUBLISH
BEGIN:VEVENT
DTSTAMP:20161230T080602
DTSTART:20170105T120000
DTEND:20170105T235900
SUMMARY:Metro JPA/Metro Commission CANCELLED
DESCRIPTION:
X-ALT-DESC;FMTTYPE=text/html:
LOCATION:MWWD MOC II Auditorium\, 9192 Topaz Way San Diego\, California 92023
CLASS:PUBLIC
END:VEVENT
END:VCALENDAR
