BEGIN:VCALENDAR
VERSION:2.0
PRODID:Metro Wastewater JPA Calendar Creator
METHOD:PUBLISH
BEGIN:VEVENT
DTSTAMP:20160406T080334
DTSTART:20160407T120000
DTEND:20160407T235900
SUMMARY:Metro JPA/Metro Commission 
DESCRIPTION:
X-ALT-DESC;FMTTYPE=text/html:
LOCATION:MWWD MOC II Auditorium\, 9192 Topaz Way San Diego\, California 92023
CLASS:PUBLIC
END:VEVENT
END:VCALENDAR
