BEGIN:VCALENDAR
VERSION:2.0
PRODID:Metro Wastewater JPA Calendar Creator
METHOD:PUBLISH
BEGIN:VEVENT
DTSTAMP:20151230T183036
DTSTART:20160107T120000
DTEND:20160107T235900
SUMMARY:Metro JPA/Metro Commission
DESCRIPTION:<BR>
X-ALT-DESC;FMTTYPE=text/html:<BR>
LOCATION:North City Water Reclamation Plant\, 4949 Eastgate Mall San Diego\, California 92121
CLASS:PUBLIC
END:VEVENT
END:VCALENDAR
