BEGIN:VCALENDAR
VERSION:2.0
PRODID:Metro Wastewater JPA Calendar Creator
METHOD:PUBLISH
BEGIN:VEVENT
DTSTAMP:20151031T080505
DTSTART:20151105T120000
DTEND:20151105T235900
SUMMARY:Metro JPA/Metro Commission
DESCRIPTION:<BR>
X-ALT-DESC;FMTTYPE=text/html:<BR>
LOCATION:MWWD MOC II Auditorium\, 9192 Topaz Way San Diego\, California 92023
CLASS:PUBLIC
END:VEVENT
END:VCALENDAR
