BEGIN:VCALENDAR
VERSION:2.0
PRODID:Metro Wastewater JPA Calendar Creator
METHOD:PUBLISH
BEGIN:VEVENT
DTSTAMP:20141226T090747
DTSTART:20141217T110000
DTEND:20141217T133000
SUMMARY:Metro TAC Meeting
DESCRIPTION:<br>
X-ALT-DESC;FMTTYPE=text/html:<br>
LOCATION:MWWD MOC II Auditorium\, 9192 Topaz Way San Diego\, California 92023
CLASS:PUBLIC
END:VEVENT
END:VCALENDAR
