BEGIN:VCALENDAR
VERSION:2.0
PRODID:Metro Wastewater JPA Calendar Creator
METHOD:PUBLISH
BEGIN:VEVENT
DTSTAMP:20141008T111726
DTSTART:20141015T110000
DTEND:20141015T235900
SUMMARY:MetroTAC Meeting
DESCRIPTION:<br>
X-ALT-DESC;FMTTYPE=text/html:<br>
LOCATION:MOC II Auditorium\, 9192 Topaz Way 
CLASS:PUBLIC
END:VEVENT
END:VCALENDAR
