BEGIN:VCALENDAR
VERSION:2.0
PRODID:Metro Wastewater JPA Calendar Creator
METHOD:PUBLISH
BEGIN:VEVENT
DTSTAMP:20260423T165230
DTSTART:20260428T100000
DTEND:20260428T120000
SUMMARY:2026-4-28 Metro JPA Finance Committee Regular Meeting
DESCRIPTION:
X-ALT-DESC;FMTTYPE=text/html:
LOCATION:City of San Diego PUD/MOC II\, 9192 Topaz Way Rm 2B San Diego\, California 92123
CLASS:PUBLIC
END:VEVENT
END:VCALENDAR
