BEGIN:VCALENDAR
VERSION:2.0
PRODID:Metro Wastewater JPA Calendar Creator
METHOD:PUBLISH
BEGIN:VEVENT
DTSTAMP:20150630T110059
DTSTART:20140219T110000
DTEND:20140219T133000
SUMMARY:Metro TAC Meeting
DESCRIPTION:
X-ALT-DESC;FMTTYPE=text/html:
LOCATION:MWWD MOC II Auditorium\, 9192 Topaz Way San Diego\, California 92023
CLASS:PUBLIC
END:VEVENT
END:VCALENDAR
