BEGIN:VCALENDAR
VERSION:2.0
PRODID:Metro Wastewater JPA Calendar Creator
METHOD:PUBLISH
BEGIN:VEVENT
DTSTAMP:20250611T163902
DTSTART:20250618T110000
DTEND:20250618T130000
SUMMARY:2025-06-18 Metro TAC Regular Meeting (HYBRID)
DESCRIPTION:
X-ALT-DESC;FMTTYPE=text/html:
LOCATION:HYBRID Meeting - Please read agenda cover\, 9192 Topaz Way San Diego\, California 92123
CLASS:PUBLIC
END:VEVENT
END:VCALENDAR
