BEGIN:VCALENDAR
VERSION:2.0
PRODID:Metro Wastewater JPA Calendar Creator
METHOD:PUBLISH
BEGIN:VEVENT
DTSTAMP:20250220T164703
DTSTART:20250128T100000
DTEND:20250128T120000
SUMMARY:2025-01-28 Metro JPA Finance Committee Regular Meeting
DESCRIPTION:
X-ALT-DESC;FMTTYPE=text/html:
LOCATION:City of San Diego MOC II Auditorium\, 9192 Topaz Way San Diego\, California 92123
CLASS:PUBLIC
END:VEVENT
END:VCALENDAR
