BEGIN:VCALENDAR
VERSION:2.0
PRODID:Metro Wastewater JPA Calendar Creator
METHOD:PUBLISH
BEGIN:VEVENT
DTSTAMP:20150923T075842
DTSTART:20150930T083000
DTEND:20150930T235900
SUMMARY:JPA Finance Committee Meeting
DESCRIPTION:<br>
X-ALT-DESC;FMTTYPE=text/html:<br>
LOCATION:City of San Diego\, Public Utilities Department\, Metropolitan Operations Complex (MOC II)\, 9192 Topaz Way San Diego\, California 92123
CLASS:PUBLIC
END:VEVENT
END:VCALENDAR
