BEGIN:VCALENDAR
VERSION:2.0
PRODID:Metro Wastewater JPA Calendar Creator
METHOD:PUBLISH
BEGIN:VEVENT
DTSTAMP:20240712T204920
DTSTART:20240717T110000
DTEND:20240717T133000
SUMMARY:July 17, 2024 MetroTAC Regular Meeting Agenda
DESCRIPTION:
X-ALT-DESC;FMTTYPE=text/html:
LOCATION:HYBRID Meeting - Please read agenda cover\, 
CLASS:PUBLIC
END:VEVENT
END:VCALENDAR
