BEGIN:VCALENDAR
VERSION:2.0
PRODID:Metro Wastewater JPA Calendar Creator
METHOD:PUBLISH
BEGIN:VEVENT
DTSTAMP:20150523T155101
DTSTART:20150527T083000
DTEND:20150527T235900
SUMMARY:Finance Committee Meeting
DESCRIPTION:<BR>
X-ALT-DESC;FMTTYPE=text/html:<BR>
LOCATION:Atkins Global\, 3570 Carmel Mountain Rd.\, Ste. 300 San Diego\, California 92130
CLASS:PUBLIC
END:VEVENT
END:VCALENDAR
