BEGIN:VCALENDAR
VERSION:2.0
PRODID:Metro Wastewater JPA Calendar Creator
METHOD:PUBLISH
BEGIN:VEVENT
DTSTAMP:20240118T121601
DTSTART:20240123T100000
DTEND:20240123T120000
SUMMARY:Metro JPA Finance Committee Meeting
DESCRIPTION:
X-ALT-DESC;FMTTYPE=text/html:
LOCATION:City of San Diego MOC II Conference Room 2B\, 9192 Topaz Way San Diego\, California 
CLASS:PUBLIC
END:VEVENT
END:VCALENDAR
